BEGIN:VCALENDAR
VERSION:2.0
PRODID:-//Serenity Farm - ECPv6.15.16//NONSGML v1.0//EN
CALSCALE:GREGORIAN
METHOD:PUBLISH
X-ORIGINAL-URL:https://serenityfarmatbenedict.com
X-WR-CALDESC:Events for Serenity Farm
REFRESH-INTERVAL;VALUE=DURATION:PT1H
X-Robots-Tag:noindex
X-PUBLISHED-TTL:PT1H
BEGIN:VTIMEZONE
TZID:America/New_York
BEGIN:DAYLIGHT
TZOFFSETFROM:-0500
TZOFFSETTO:-0400
TZNAME:EDT
DTSTART:20230312T070000
END:DAYLIGHT
BEGIN:STANDARD
TZOFFSETFROM:-0400
TZOFFSETTO:-0500
TZNAME:EST
DTSTART:20231105T060000
END:STANDARD
BEGIN:DAYLIGHT
TZOFFSETFROM:-0500
TZOFFSETTO:-0400
TZNAME:EDT
DTSTART:20240310T070000
END:DAYLIGHT
BEGIN:STANDARD
TZOFFSETFROM:-0400
TZOFFSETTO:-0500
TZNAME:EST
DTSTART:20241103T060000
END:STANDARD
BEGIN:DAYLIGHT
TZOFFSETFROM:-0500
TZOFFSETTO:-0400
TZNAME:EDT
DTSTART:20250309T070000
END:DAYLIGHT
BEGIN:STANDARD
TZOFFSETFROM:-0400
TZOFFSETTO:-0500
TZNAME:EST
DTSTART:20251102T060000
END:STANDARD
END:VTIMEZONE
BEGIN:VEVENT
DTSTART;TZID=America/New_York:20240803T100000
DTEND;TZID=America/New_York:20240803T130000
DTSTAMP:20260420T090536
CREATED:20240416T151255Z
LAST-MODIFIED:20240416T151255Z
UID:1056-1722679200-1722690000@serenityfarmatbenedict.com
SUMMARY:Petting Pen 8/3
DESCRIPTION:The petting pen will be open the 1st Saturday of each month from 10:00 am until 1:00 pm\, May through August.
URL:https://serenityfarmatbenedict.com/event/petting-pen-8-3/
LOCATION:Serenity Farm at Benedict\, 6932 Serenity Farm Rd\, Benedict\, MD\, 20612\, United States
CATEGORIES:Serenity Farm
END:VEVENT
BEGIN:VEVENT
DTSTART;TZID=America/New_York:20240831T100000
DTEND;TZID=America/New_York:20240831T160000
DTSTAMP:20260420T090536
CREATED:20220712T192508Z
LAST-MODIFIED:20240408T170112Z
UID:328-1725098400-1725120000@serenityfarmatbenedict.com
SUMMARY:Annual Southern Maryland Sunflower Festival
DESCRIPTION:Celebrate the return to full festival atmosphere! Kick-off Fall by visiting Serenity Farm and supporting the nonprofit Farm Heritage Conservancy. Enjoy 6 acres of pick-your-own sunflowers\, hay rides\, photo opportunities\, local art show\, vendors\, petting pen\, and more! This event will be held Labor Day Weekend\, on August 31 & September 1\, 2024\, from 10:00 a.m. to 4:00 p.m.. \nSunflower picking with the build-your-own bouquet station are included in the ticket price. Bring your own shears!  Food will be available for purchase. (Please\, no outside food.) Leashed dogs are welcome. \nLearn more about the festival on the Farm Heritage Conservancy website.
URL:https://serenityfarmatbenedict.com/event/annual-southern-maryland-sunflower-festival/
LOCATION:Serenity Farm at Benedict\, 6932 Serenity Farm Rd\, Benedict\, MD\, 20612\, United States
CATEGORIES:Farm Heritage Conservancy,Sunflower Festival
ORGANIZER;CN="Farm Heritage Conservancy":MAILTO:hello@farmheritageconservancy.org
END:VEVENT
END:VCALENDAR