BEGIN:VCALENDAR
VERSION:2.0
PRODID:-//Serenity Farm - ECPv6.15.16//NONSGML v1.0//EN
CALSCALE:GREGORIAN
METHOD:PUBLISH
X-ORIGINAL-URL:https://serenityfarmatbenedict.com
X-WR-CALDESC:Events for Serenity Farm
REFRESH-INTERVAL;VALUE=DURATION:PT1H
X-Robots-Tag:noindex
X-PUBLISHED-TTL:PT1H
BEGIN:VTIMEZONE
TZID:America/New_York
BEGIN:DAYLIGHT
TZOFFSETFROM:-0500
TZOFFSETTO:-0400
TZNAME:EDT
DTSTART:20230312T070000
END:DAYLIGHT
BEGIN:STANDARD
TZOFFSETFROM:-0400
TZOFFSETTO:-0500
TZNAME:EST
DTSTART:20231105T060000
END:STANDARD
BEGIN:DAYLIGHT
TZOFFSETFROM:-0500
TZOFFSETTO:-0400
TZNAME:EDT
DTSTART:20240310T070000
END:DAYLIGHT
BEGIN:STANDARD
TZOFFSETFROM:-0400
TZOFFSETTO:-0500
TZNAME:EST
DTSTART:20241103T060000
END:STANDARD
BEGIN:DAYLIGHT
TZOFFSETFROM:-0500
TZOFFSETTO:-0400
TZNAME:EDT
DTSTART:20250309T070000
END:DAYLIGHT
BEGIN:STANDARD
TZOFFSETFROM:-0400
TZOFFSETTO:-0500
TZNAME:EST
DTSTART:20251102T060000
END:STANDARD
END:VTIMEZONE
BEGIN:VEVENT
DTSTART;TZID=America/New_York:20240901T100000
DTEND;TZID=America/New_York:20240901T160000
DTSTAMP:20260420T102814
CREATED:20240408T170147Z
LAST-MODIFIED:20240408T170147Z
UID:1032-1725184800-1725206400@serenityfarmatbenedict.com
SUMMARY:Annual Southern Maryland Sunflower Festival - Sep1
DESCRIPTION:Celebrate the return to full festival atmosphere! Kick-off Fall by visiting Serenity Farm and supporting the nonprofit Farm Heritage Conservancy. Enjoy 6 acres of pick-your-own sunflowers\, hay rides\, photo opportunities\, local art show\, vendors\, petting pen\, and more! This event will be held Labor Day Weekend\, on August 31 & September 1\, 2024\, from 10:00 a.m. to 4:00 p.m.. \nSunflower picking with the build-your-own bouquet station are included in the ticket price. Bring your own shears!  Food will be available for purchase. (Please\, no outside food.) Leashed dogs are welcome. \nLearn more about the festival on the Farm Heritage Conservancy website.
URL:https://serenityfarmatbenedict.com/event/annual-southern-maryland-sunflower-festival-sep1/
LOCATION:Serenity Farm at Benedict\, 6932 Serenity Farm Rd\, Benedict\, MD\, 20612\, United States
CATEGORIES:Farm Heritage Conservancy,Sunflower Festival
ORGANIZER;CN="Farm Heritage Conservancy":MAILTO:hello@farmheritageconservancy.org
END:VEVENT
END:VCALENDAR