BEGIN:VCALENDAR
VERSION:2.0
PRODID:-//Serenity Farm - ECPv6.15.16//NONSGML v1.0//EN
CALSCALE:GREGORIAN
METHOD:PUBLISH
X-WR-CALNAME:Serenity Farm
X-ORIGINAL-URL:https://serenityfarmatbenedict.com
X-WR-CALDESC:Events for Serenity Farm
REFRESH-INTERVAL;VALUE=DURATION:PT1H
X-Robots-Tag:noindex
X-PUBLISHED-TTL:PT1H
BEGIN:VTIMEZONE
TZID:America/New_York
BEGIN:DAYLIGHT
TZOFFSETFROM:-0500
TZOFFSETTO:-0400
TZNAME:EDT
DTSTART:20210314T070000
END:DAYLIGHT
BEGIN:STANDARD
TZOFFSETFROM:-0400
TZOFFSETTO:-0500
TZNAME:EST
DTSTART:20211107T060000
END:STANDARD
BEGIN:DAYLIGHT
TZOFFSETFROM:-0500
TZOFFSETTO:-0400
TZNAME:EDT
DTSTART:20220313T070000
END:DAYLIGHT
BEGIN:STANDARD
TZOFFSETFROM:-0400
TZOFFSETTO:-0500
TZNAME:EST
DTSTART:20221106T060000
END:STANDARD
BEGIN:DAYLIGHT
TZOFFSETFROM:-0500
TZOFFSETTO:-0400
TZNAME:EDT
DTSTART:20230312T070000
END:DAYLIGHT
BEGIN:STANDARD
TZOFFSETFROM:-0400
TZOFFSETTO:-0500
TZNAME:EST
DTSTART:20231105T060000
END:STANDARD
END:VTIMEZONE
BEGIN:VEVENT
DTSTART;TZID=America/New_York:20221204T150000
DTEND;TZID=America/New_York:20221204T160000
DTSTAMP:20260421T101959
CREATED:20220920T154314Z
LAST-MODIFIED:20220920T154314Z
UID:618-1670166000-1670169600@serenityfarmatbenedict.com
SUMMARY:Greening of the Burial Ground
DESCRIPTION:Meet at the Harvest House and create a swag or wreath from natural materials that are provided. Then take a guided walk to the burial ground and hear a brief history.
URL:https://serenityfarmatbenedict.com/event/greening-of-the-burial-ground/
LOCATION:Serenity Farm at Benedict\, 6932 Serenity Farm Rd\, Benedict\, MD\, 20612\, United States
END:VEVENT
END:VCALENDAR