BEGIN:VCALENDAR
VERSION:2.0
PRODID:-//Serenity Farm - ECPv6.15.16//NONSGML v1.0//EN
CALSCALE:GREGORIAN
METHOD:PUBLISH
X-ORIGINAL-URL:https://serenityfarmatbenedict.com
X-WR-CALDESC:Events for Serenity Farm
REFRESH-INTERVAL;VALUE=DURATION:PT1H
X-Robots-Tag:noindex
X-PUBLISHED-TTL:PT1H
BEGIN:VTIMEZONE
TZID:America/New_York
BEGIN:DAYLIGHT
TZOFFSETFROM:-0500
TZOFFSETTO:-0400
TZNAME:EDT
DTSTART:20240310T070000
END:DAYLIGHT
BEGIN:STANDARD
TZOFFSETFROM:-0400
TZOFFSETTO:-0500
TZNAME:EST
DTSTART:20241103T060000
END:STANDARD
BEGIN:DAYLIGHT
TZOFFSETFROM:-0500
TZOFFSETTO:-0400
TZNAME:EDT
DTSTART:20250309T070000
END:DAYLIGHT
BEGIN:STANDARD
TZOFFSETFROM:-0400
TZOFFSETTO:-0500
TZNAME:EST
DTSTART:20251102T060000
END:STANDARD
BEGIN:DAYLIGHT
TZOFFSETFROM:-0500
TZOFFSETTO:-0400
TZNAME:EDT
DTSTART:20260308T070000
END:DAYLIGHT
BEGIN:STANDARD
TZOFFSETFROM:-0400
TZOFFSETTO:-0500
TZNAME:EST
DTSTART:20261101T060000
END:STANDARD
END:VTIMEZONE
BEGIN:VEVENT
DTSTART;VALUE=DATE:20250426
DTEND;VALUE=DATE:20250427
DTSTAMP:20260420T050142
CREATED:20250428T192845Z
LAST-MODIFIED:20250428T193010Z
UID:1354-1745625600-1745711999@serenityfarmatbenedict.com
SUMMARY:1st Annual Food Truck Festival and Farmers Market
DESCRIPTION:Join us here at Serenity Farm for our 1st Annual Food Truck Festival and Farmers Market! Rain date April 27th. \n 
URL:https://serenityfarmatbenedict.com/event/1st-annual-food-truck-festival-and-farmers-market/
LOCATION:Serenity Farm at Benedict\, 6932 Serenity Farm Rd\, Benedict\, MD\, 20612\, United States
CATEGORIES:Serenity Farm
END:VEVENT
END:VCALENDAR