BEGIN:VCALENDAR
VERSION:2.0
PRODID:-//Serenity Farm - ECPv6.15.16//NONSGML v1.0//EN
CALSCALE:GREGORIAN
METHOD:PUBLISH
X-ORIGINAL-URL:https://serenityfarmatbenedict.com
X-WR-CALDESC:Events for Serenity Farm
REFRESH-INTERVAL;VALUE=DURATION:PT1H
X-Robots-Tag:noindex
X-PUBLISHED-TTL:PT1H
BEGIN:VTIMEZONE
TZID:America/New_York
BEGIN:DAYLIGHT
TZOFFSETFROM:-0500
TZOFFSETTO:-0400
TZNAME:EDT
DTSTART:20210314T070000
END:DAYLIGHT
BEGIN:STANDARD
TZOFFSETFROM:-0400
TZOFFSETTO:-0500
TZNAME:EST
DTSTART:20211107T060000
END:STANDARD
BEGIN:DAYLIGHT
TZOFFSETFROM:-0500
TZOFFSETTO:-0400
TZNAME:EDT
DTSTART:20220313T070000
END:DAYLIGHT
BEGIN:STANDARD
TZOFFSETFROM:-0400
TZOFFSETTO:-0500
TZNAME:EST
DTSTART:20221106T060000
END:STANDARD
BEGIN:DAYLIGHT
TZOFFSETFROM:-0500
TZOFFSETTO:-0400
TZNAME:EDT
DTSTART:20230312T070000
END:DAYLIGHT
BEGIN:STANDARD
TZOFFSETFROM:-0400
TZOFFSETTO:-0500
TZNAME:EST
DTSTART:20231105T060000
END:STANDARD
END:VTIMEZONE
BEGIN:VEVENT
DTSTART;TZID=America/New_York:20221015T100000
DTEND;TZID=America/New_York:20221016T160000
DTSTAMP:20260423T025815
CREATED:20220919T201311Z
LAST-MODIFIED:20221025T155355Z
UID:608-1665828000-1665936000@serenityfarmatbenedict.com
SUMMARY:Harvest Days Fall Festival
DESCRIPTION:Join us here at Serenity Farm for our Harvest Days Fall Festival! Ticket price $15 per person\, 4 and under are admitted for free. \nTicket price includes: pumpkin\, petting pen\, and hayride. Harvest House is open with apples\, pumpkins\, apple cider\, mulling spices\, and apple butter and many fall items. \nWeather dependent.
URL:https://serenityfarmatbenedict.com/event/harvest-days-fall-festival/
LOCATION:Serenity Farm at Benedict\, 6932 Serenity Farm Rd\, Benedict\, MD\, 20612\, United States
END:VEVENT
BEGIN:VEVENT
DTSTART;TZID=America/New_York:20221022T100000
DTEND;TZID=America/New_York:20221023T160000
DTSTAMP:20260423T025815
CREATED:20220919T201420Z
LAST-MODIFIED:20220920T153955Z
UID:612-1666432800-1666540800@serenityfarmatbenedict.com
SUMMARY:Harvest Days Fall Festival
DESCRIPTION:Join us here at Serenity Farm for our Harvest Days Fall Festival! Ticket price $15 per person\, 4 and under are admitted for free. \nTicket price includes: pumpkin\, petting pen\, and hayride. Harvest House is open with apples\, pumpkins\, apple cider\, mulling spices\, and apple butter and many fall items. \nWeather dependent.
URL:https://serenityfarmatbenedict.com/event/harvest-days-fall-festival-2/
LOCATION:Serenity Farm at Benedict\, 6932 Serenity Farm Rd\, Benedict\, MD\, 20612\, United States
END:VEVENT
END:VCALENDAR